BEGIN:VCALENDAR
VERSION:2.0
PRODID:-//Camper Trailer Sales &amp; Hire - Australian Camper Trailer Network - ECPv4.6.11.1//NONSGML v1.0//EN
CALSCALE:GREGORIAN
METHOD:PUBLISH
X-WR-CALNAME:Camper Trailer Sales &amp; Hire - Australian Camper Trailer Network
X-ORIGINAL-URL:http://campertrailer.com.au
X-WR-CALDESC:Events for Camper Trailer Sales &amp; Hire - Australian Camper Trailer Network
BEGIN:VEVENT
DTSTART;VALUE=DATE:20180221
DTEND;VALUE=DATE:20180226
DTSTAMP:20180224T084841
CREATED:20171011T222039Z
LAST-MODIFIED:20171016T050953Z
UID:8885-1519171200-1519603199@campertrailer.com.au
SUMMARY:Victorian Caravan\, Camping & Touring Supershow
DESCRIPTION:See hundreds of the latest caravans\, motorhomes\, tents and campers\, camping equipment and accessories at the annual Supershow. \nYou’ll also find loads of free Australian tourism destination information to help plan a holiday and much\, much more at our new home\, the Melbourne Showgrounds. \nWhether you’re a seasoned veteran or new to the outdoors lifestyle\, there will be a range of seminars and demonstrations to help you get the most out of your holidays. \nA great range of exciting entertainment for young and old throughout the Supershow with a stack of great prizes up for grabs including the Passport Competition with prizes over $63\,000 on offer. \nMake sure you don’t miss the Victorian Caravan\, Camping & Touring Supershow\, the perfect place to start planning your next holiday and making memories that will last forever. \n
URL:http://campertrailer.com.au/event/victorian-caravan-camping-touring-supershow-2/
LOCATION:Epsom Rd\, Ascot Vale\, VIC\, 3032\, Australia
CATEGORIES:Camping, Outdoor & Holiday Shows
ATTACH;FMTTYPE=image/jpeg:http://campertrailer.com.au/wp-content/uploads/2015/11/melbourne-supershow.jpg
ORGANIZER;CN="Melbourne%20Camper%20Trailer%20Centre":MAILTO:sales@melbournecampertrailers.com
END:VEVENT
BEGIN:VEVENT
DTSTART;VALUE=DATE:20180321
DTEND;VALUE=DATE:20180326
DTSTAMP:20180224T084841
CREATED:20170912T222417Z
LAST-MODIFIED:20171016T044641Z
UID:8886-1521590400-1522022399@campertrailer.com.au
SUMMARY:Perth Caravan & Camping Show
DESCRIPTION:The annual RAC Perth Caravan & Camping Show is back in 2018\, bigger and better than ever! \nFrom the 21st of March to 25th March 2018 at the Claremont Showground\, the Show will feature over 400 caravans\, 130 camper trailers and more gadgets\, gizmos and accessories than you could poke a tent pole at. \nWhether you’re looking to upgrade your existing set up or just starting out\, WA’s biggest caravan and camping showcase has everything you could possibly need for your next outdoor adventure\, and all in the one place. \nNot just for big kids\, it’s a guaranteed fun day out for the whole family with loads of entertainment and always something new to see and do. \nThe 2017 RAC Perth Caravan & Camping Show: your adventure starts here! \n
URL:http://campertrailer.com.au/event/2017-perth-caravan-camping-show/
LOCATION:1 Graylands Road\, Claremont\, WA\, 6010\, Australia
CATEGORIES:Camping, Outdoor & Holiday Shows
ATTACH;FMTTYPE=image/jpeg:http://campertrailer.com.au/wp-content/uploads/2015/11/perth-show.jpg
ORGANIZER;CN="Westoz%20Camper%20Trailers":MAILTO:perthnorth@campertrailer.com.au
END:VEVENT
BEGIN:VEVENT
DTSTART;VALUE=DATE:20180424
DTEND;VALUE=DATE:20180430
DTSTAMP:20180224T084841
CREATED:20171010T222959Z
LAST-MODIFIED:20171016T045727Z
UID:8887-1524528000-1525046399@campertrailer.com.au
SUMMARY:NSW Caravan\, Camping\, RV & Holiday Supershow
DESCRIPTION:With over 300 exhibitors you’ll be sure to find everything you want for your next caravan and camping adventure. \nWe will have all the latest in: \n\nCaravans\nMotorhomes\nCampervans\nCamper Trailers\nHoliday Parks\nFifth Wheelers\nSlide Ons\nTents & Camping Equipment\nAccessories\nParks with Luxury Cabins & Tent Sites\n\n
URL:http://campertrailer.com.au/nsw-caravan-camping-supershow/
LOCATION:James Ruse Drive\, Rosehill\, NSW\, 2142\, Australia
CATEGORIES:Camping, Outdoor & Holiday Shows
ATTACH;FMTTYPE=image/jpeg:http://campertrailer.com.au/wp-content/uploads/2015/11/Supershow-header-1-a.jpg
END:VEVENT
BEGIN:VEVENT
DTSTART;VALUE=DATE:20180817
DTEND;VALUE=DATE:20180820
DTSTAMP:20180224T084841
CREATED:20171114T045723Z
LAST-MODIFIED:20171202T222353Z
UID:8644-1534464000-1534723199@campertrailer.com.au
SUMMARY:National 4×4 Show\, Fishing & Boating Expo
DESCRIPTION:The National 4×4 Outdoors Show\, Fishing and Boating Expo will be back at the Melbourne Showground 17-19 August 2018.\n\nThis Show is an outdoors haven for the outback travellers\, fishermen and 4×4 lovers. Bringing together 200 leading exhibitors and retailers\, unique entertainment and renowned industry experts to create a truly memorable experience. \nJoin more than 32\,000 fellow fishing\, 4×4 and outdoor enthusiasts across three days. Need to stock up on gear? This popular one-stop shop will feature the latest products\, great deals and real inside technical knowledge. New 4x4s; the latest aftermarket accessories; tents; camper trailers; boats and fishing tackle will all be on sale. \n\n
URL:http://campertrailer.com.au/event/melbourne-4x4-outdoors-show-fishing-boating-expo/
LOCATION:Epsom Rd\, Ascot Vale\, VIC\, 3032\, Australia
CATEGORIES:Camping, Outdoor & Holiday Shows
ATTACH;FMTTYPE=image/jpeg:http://campertrailer.com.au/wp-content/uploads/2015/08/expo.jpg
ORGANIZER;CN="Melbourne%20Camper%20Trailer%20Centre":MAILTO:sales@melbournecampertrailers.com
END:VEVENT
BEGIN:VEVENT
DTSTART;VALUE=DATE:20181004
DTEND;VALUE=DATE:20181008
DTSTAMP:20180224T084841
CREATED:20171106T003426Z
LAST-MODIFIED:20171202T223214Z
UID:8716-1538611200-1538956799@campertrailer.com.au
SUMMARY:Melbourne Leisurefest 2018
DESCRIPTION:In an age where leisure and lifestyle have taken on a new meaning\, the Caravan industry Association of Victoria are proud to once again conduct the Melbourne Leisurefest to showcase the very best in caravans\, recreational vehicles\, 4×4 vehicles and accessories and lifestyle and outdoor camping accessories.\nMelbourne Leisurefest 2018 will showcase more caravans\, pop-tops\, tents\, camper trailers\, motorhomes\, campervans and 4×4 off road and touring accessories than ever. \nMany of these products will be on display for the first time\, meaning visitors to Melbourne Leisurefest will experience them before anybody else! Plus there will be plenty of tourism information available from all over Australia so you can plan your next great adventure. \n
URL:http://campertrailer.com.au/event/melbourne-leisurefest/
LOCATION:591-659 Princes Highway\, Springvale\, Victoria\, 3171\, Australia
CATEGORIES:Camping, Outdoor & Holiday Shows
ATTACH;FMTTYPE=image/jpeg:http://campertrailer.com.au/wp-content/uploads/2015/10/leisurefest-1.jpg
ORGANIZER;CN="Melbourne%20Camper%20Trailer%20Centre":MAILTO:sales@melbournecampertrailers.com
END:VEVENT
END:VCALENDAR